BEGIN:VCALENDAR
VERSION:2.0
PRODID:-//Integrity College of Health - ECPv6.15.20//NONSGML v1.0//EN
CALSCALE:GREGORIAN
METHOD:PUBLISH
X-ORIGINAL-URL:https://ich.edu
X-WR-CALDESC:Events for Integrity College of Health
REFRESH-INTERVAL;VALUE=DURATION:PT1H
X-Robots-Tag:noindex
X-PUBLISHED-TTL:PT1H
BEGIN:VTIMEZONE
TZID:America/Los_Angeles
BEGIN:DAYLIGHT
TZOFFSETFROM:-0800
TZOFFSETTO:-0700
TZNAME:PDT
DTSTART:20240310T100000
END:DAYLIGHT
BEGIN:STANDARD
TZOFFSETFROM:-0700
TZOFFSETTO:-0800
TZNAME:PST
DTSTART:20241103T090000
END:STANDARD
BEGIN:DAYLIGHT
TZOFFSETFROM:-0800
TZOFFSETTO:-0700
TZNAME:PDT
DTSTART:20250309T100000
END:DAYLIGHT
BEGIN:STANDARD
TZOFFSETFROM:-0700
TZOFFSETTO:-0800
TZNAME:PST
DTSTART:20251102T090000
END:STANDARD
BEGIN:DAYLIGHT
TZOFFSETFROM:-0800
TZOFFSETTO:-0700
TZNAME:PDT
DTSTART:20260308T100000
END:DAYLIGHT
BEGIN:STANDARD
TZOFFSETFROM:-0700
TZOFFSETTO:-0800
TZNAME:PST
DTSTART:20261101T090000
END:STANDARD
BEGIN:DAYLIGHT
TZOFFSETFROM:-0800
TZOFFSETTO:-0700
TZNAME:PDT
DTSTART:20270314T100000
END:DAYLIGHT
BEGIN:STANDARD
TZOFFSETFROM:-0700
TZOFFSETTO:-0800
TZNAME:PST
DTSTART:20271107T090000
END:STANDARD
END:VTIMEZONE
BEGIN:VEVENT
DTSTART;TZID=America/Los_Angeles:20260115T100000
DTEND;TZID=America/Los_Angeles:20260115T180000
DTSTAMP:20260422T094601
CREATED:20260107T182949Z
LAST-MODIFIED:20260107T182949Z
UID:10000095-1768471200-1768500000@ich.edu
SUMMARY:Sonography Info Sessions
DESCRIPTION:Join one of our virtual Sonography info sessions Tuesday\, January 13 and Thursday\, January 15\, from 10am and 6pm. Speak with our admissions team to learn about our programs and how Integrity College of Health can help you take the next step on your career path.  Sessions will take place at 10am and 6pm.  Click here to join us at any of the sessions: https://legacyed.zoom.us/j/2786002301?pwd=reBaIKNPLdepk9P4SvYdpn1IAeIa3d.1
URL:https://ich.edu/event/sonography-info-sessions-3/2026-01-15/
CATEGORIES:Virtual
ATTACH;FMTTYPE=image/jpeg:https://ich.edu/wp-content/uploads/2026/01/dms-ich-jan-13-and-15-1.jpg
ORGANIZER;CN="Orson Picasso":MAILTO:opicasso@ich.edu
LOCATION:https://legacyed.zoom.us/j/2786002301?pwd=reBaIKNPLdepk9P4SvYdpn1IAeIa3d.1&omn=81036935234
END:VEVENT
BEGIN:VEVENT
DTSTART;TZID=America/Los_Angeles:20260113T100000
DTEND;TZID=America/Los_Angeles:20260113T180000
DTSTAMP:20260422T094601
CREATED:20260107T182949Z
LAST-MODIFIED:20260107T182949Z
UID:10000094-1768298400-1768327200@ich.edu
SUMMARY:Sonography Info Sessions
DESCRIPTION:Join one of our virtual Sonography info sessions Tuesday\, January 13 and Thursday\, January 15\, from 10am and 6pm. Speak with our admissions team to learn about our programs and how Integrity College of Health can help you take the next step on your career path.  Sessions will take place at 10am and 6pm.  Click here to join us at any of the sessions: https://legacyed.zoom.us/j/2786002301?pwd=reBaIKNPLdepk9P4SvYdpn1IAeIa3d.1
URL:https://ich.edu/event/sonography-info-sessions-3/2026-01-13/
CATEGORIES:Virtual
ATTACH;FMTTYPE=image/jpeg:https://ich.edu/wp-content/uploads/2026/01/dms-ich-jan-13-and-15-1.jpg
ORGANIZER;CN="Orson Picasso":MAILTO:opicasso@ich.edu
LOCATION:https://legacyed.zoom.us/j/2786002301?pwd=reBaIKNPLdepk9P4SvYdpn1IAeIa3d.1&omn=81036935234
END:VEVENT
BEGIN:VEVENT
DTSTART;TZID=America/Los_Angeles:20251230T100000
DTEND;TZID=America/Los_Angeles:20251230T180000
DTSTAMP:20260422T094601
CREATED:20251222T200351Z
LAST-MODIFIED:20251222T200351Z
UID:10000092-1767088800-1767117600@ich.edu
SUMMARY:Sonography Info Sessions
DESCRIPTION:Join one of our virtual Sonography info sessions this Tuesday\, December 30\, at 10am and 6pm. Speak with our admissions team to learn about our programs and how Integrity College of Health can help you take the next step on your career path.  Sessions will take place at 10am and 6pm.  Click here to join us at any of the sessions: https://legacyed.zoom.us/j/2786002301?pwd=reBaIKNPLdepk9P4SvYdpn1IAeIa3d.1
URL:https://ich.edu/event/sonography-info-sessions-2/
CATEGORIES:Virtual
ATTACH;FMTTYPE=image/png:https://ich.edu/wp-content/uploads/2025/12/dms-ich-dec-30.png
ORGANIZER;CN="Orson Picasso":MAILTO:opicasso@ich.edu
LOCATION:https://legacyed.zoom.us/j/2786002301?pwd=reBaIKNPLdepk9P4SvYdpn1IAeIa3d.1&omn=81036935234
END:VEVENT
BEGIN:VEVENT
DTSTART;TZID=America/Los_Angeles:20251220T100000
DTEND;TZID=America/Los_Angeles:20251220T143000
DTSTAMP:20260422T094601
CREATED:20251218T000844Z
LAST-MODIFIED:20251218T000955Z
UID:10000091-1766224800-1766241000@ich.edu
SUMMARY:Sonography Info Sessions
DESCRIPTION:Join one of our virtual Sonography info sessions this Saturday\, December 20\, at 10am\, 12pm\, and 2pm. Speak with our admissions team to learn about our programs and how Integrity College of Health can help you take the next step on your career path.  Sessions will take place at 10am\, 12pm\, and 2pm.  Click here to join us at any of the sessions: https://legacyed.zoom.us/j/2786002301?pwd=reBaIKNPLdepk9P4SvYdpn1IAeIa3d.1&omn=81036935234
URL:https://ich.edu/event/sonography-info-sessions/
CATEGORIES:Virtual
ATTACH;FMTTYPE=image/jpeg:https://ich.edu/wp-content/uploads/2025/12/dms-ich-dec-20.jpg
ORGANIZER;CN="Orson Picasso":MAILTO:opicasso@ich.edu
LOCATION:https://legacyed.zoom.us/j/2786002301?pwd=reBaIKNPLdepk9P4SvYdpn1IAeIa3d.1&omn=81036935234
END:VEVENT
END:VCALENDAR